BEGIN:VCALENDAR
VERSION:2.0
PRODID:spatie/icalendar-generator
DESCRIPTION:Events from Village of Beiseker
X-WR-CALDESC:Events from Village of Beiseker
REFRESH-INTERVAL;VALUE=DURATION:PT1440M
X-PUBLISHED-TTL:PT1440M
BEGIN:VTIMEZONE
TZID:America/Edmonton
BEGIN:STANDARD
DTSTART:20251102T020000Z
TZOFFSETFROM:-0600
TZOFFSETTO:-0700
END:STANDARD
BEGIN:DAYLIGHT
DTSTART:20260308T020000Z
TZOFFSETFROM:-0700
TZOFFSETTO:-0600
END:DAYLIGHT
BEGIN:STANDARD
DTSTART:20261101T020000Z
TZOFFSETFROM:-0600
TZOFFSETTO:-0700
END:STANDARD
END:VTIMEZONE
BEGIN:VTIMEZONE
TZID:UTC
BEGIN:STANDARD
DTSTART:20250728T164004Z
TZOFFSETFROM:+0000
TZOFFSETTO:+0000
END:STANDARD
END:VTIMEZONE
BEGIN:VEVENT
UID:1009-9
DTSTAMP:20260424T164004Z
SUMMARY:Council Meeting
LOCATION:The Village Of Beiseker 700 1 Avenue  Beiseker AB T0M 0G0
ORGANIZER;CN=superadmin:MAILTO:gpeckham@beiseker.com
RRULE:FREQ=MONTHLY;BYDAY=2MO;UNTIL=20261231T000000Z
DTSTART;TZID=America/Edmonton:20260608T190000
DTEND;TZID=America/Edmonton:20260608T211500
X-ALT-DESC;FMTTYPE=TEXT/HTML:Regular meeting of municipal council where loc
 al decisions\, bylaws\, and community issues are discussed at the Village 
 Office.
CATEGORIES:Council &amp; Governance
URL;VALUE=URI:https://beiseker.com/mc-events/council-meeting/?mc_id=1009
METHOD:PUBLISH
END:VEVENT
END:VCALENDAR