BEGIN:VCALENDAR
VERSION:2.0
PRODID:spatie/icalendar-generator
DESCRIPTION:Events from Village of Beiseker
X-WR-CALDESC:Events from Village of Beiseker
REFRESH-INTERVAL;VALUE=DURATION:PT1440M
X-PUBLISHED-TTL:PT1440M
BEGIN:VTIMEZONE
TZID:America/Edmonton
BEGIN:STANDARD
DTSTART:20251102T020000Z
TZOFFSETFROM:-0600
TZOFFSETTO:-0700
END:STANDARD
BEGIN:DAYLIGHT
DTSTART:20260308T020000Z
TZOFFSETFROM:-0700
TZOFFSETTO:-0600
END:DAYLIGHT
END:VTIMEZONE
BEGIN:VTIMEZONE
TZID:UTC
BEGIN:STANDARD
DTSTART:20250728T153639Z
TZOFFSETFROM:+0000
TZOFFSETTO:+0000
END:STANDARD
END:VTIMEZONE
BEGIN:VEVENT
UID:1023-65
DTSTAMP:20260424T153639Z
SUMMARY:Craft Class (50+)
LOCATION:Golden Years Town &amp;amp\; Country Club 411 5th Street  Beiseker AB 
 T0M 0G0
ORGANIZER;CN=superadmin:MAILTO:gpeckham@beiseker.com
RRULE:FREQ=MONTHLY;BYDAY=2MO;UNTIL=20270131T000000Z
DTSTART;TZID=America/Edmonton;VALUE=DATE:20260413
DTEND;TZID=America/Edmonton;VALUE=DATE:20260414
X-ALT-DESC;FMTTYPE=TEXT/HTML:Gather at the clubhouse for a relaxed and crea
 tive Craft Class. Join us every 2nd Monday of each month\, times are TBA. 
 All skill levels are welcome as we explore fun projects together. Shuffleb
 oard and the pool table are always available while clubhouse is open. For 
 Members Only. Membership is $20.00/per year\, please contact Betty&amp;hellip\
 ;
CATEGORIES:Community Events
URL;VALUE=URI:https://beiseker.com/mc-events/craft-class-50/?mc_id=1023
METHOD:PUBLISH
END:VEVENT
END:VCALENDAR