BEGIN:VCALENDAR
VERSION:2.0
PRODID:spatie/icalendar-generator
DESCRIPTION:Events from Village of Beiseker
X-WR-CALDESC:Events from Village of Beiseker
REFRESH-INTERVAL;VALUE=DURATION:PT1440M
X-PUBLISHED-TTL:PT1440M
BEGIN:VTIMEZONE
TZID:America/Edmonton
BEGIN:STANDARD
DTSTART:20251102T020000Z
TZOFFSETFROM:-0600
TZOFFSETTO:-0700
END:STANDARD
BEGIN:DAYLIGHT
DTSTART:20260308T020000Z
TZOFFSETFROM:-0700
TZOFFSETTO:-0600
END:DAYLIGHT
END:VTIMEZONE
BEGIN:VTIMEZONE
TZID:UTC
BEGIN:STANDARD
DTSTART:20250728T151857Z
TZOFFSETFROM:+0000
TZOFFSETTO:+0000
END:STANDARD
END:VTIMEZONE
BEGIN:VEVENT
UID:146-7
DTSTAMP:20260424T151857Z
SUMMARY:Residential Recycling
LOCATION:
ORGANIZER;CN=superadmin:MAILTO:gpeckham@beiseker.com
RRULE:FREQ=WEEKLY;INTERVAL=2;UNTIL=20261231T000000Z
DTSTART;TZID=America/Edmonton:20260424T070000
DTEND;TZID=America/Edmonton:20260424T070000
X-ALT-DESC;FMTTYPE=TEXT/HTML:Scheduled recycling pickup for accepted materi
 als. Place your blue bin in front of your residence/business by 7:00am.
CATEGORIES:Municipal Services
URL;VALUE=URI:https://beiseker.com/mc-events/residential-recycling/?mc_id=1
 46
METHOD:PUBLISH
END:VEVENT
END:VCALENDAR