BEGIN:VCALENDAR
VERSION:2.0
PRODID:spatie/icalendar-generator
DESCRIPTION:Events from Village of Beiseker
X-WR-CALDESC:Events from Village of Beiseker
REFRESH-INTERVAL;VALUE=DURATION:PT1440M
X-PUBLISHED-TTL:PT1440M
BEGIN:VTIMEZONE
TZID:America/Edmonton
BEGIN:STANDARD
DTSTART:20251102T020000Z
TZOFFSETFROM:-0600
TZOFFSETTO:-0700
END:STANDARD
BEGIN:DAYLIGHT
DTSTART:20260308T020000Z
TZOFFSETFROM:-0700
TZOFFSETTO:-0600
END:DAYLIGHT
END:VTIMEZONE
BEGIN:VTIMEZONE
TZID:UTC
BEGIN:STANDARD
DTSTART:20250728T154531Z
TZOFFSETFROM:+0000
TZOFFSETTO:+0000
END:STANDARD
END:VTIMEZONE
BEGIN:VEVENT
UID:1623-102
DTSTAMP:20260424T154531Z
SUMMARY:Transfer Station Open
LOCATION:Beiseker Transfer Station 1200 1 Avenue  Beiseker Alberta T0M 0G0
ORGANIZER;CN=superadmin:MAILTO:gpeckham@beiseker.com
RRULE:FREQ=WEEKLY;UNTIL=20270831T000000Z
DTSTART;TZID=America/Edmonton:20260417T100000
DTEND;TZID=America/Edmonton:20260417T150000
X-ALT-DESC;FMTTYPE=TEXT/HTML:Seasonal Hours:November 1 to April 30: Thursda
 y to Saturday\, 10:00 AM – 3:00 PMMay 1 to October 31: Wednesday to Satu
 rday\, 10:00 AM – 3:00 PM We accept Credit and Debit payments. Closed fo
 r Statutory Holidays.
CATEGORIES:Municipal Services
URL;VALUE=URI:https://beiseker.com/mc-events/transfer-station-open-2/?mc_id
 =1623
METHOD:PUBLISH
END:VEVENT
END:VCALENDAR