BEGIN:VCALENDAR
VERSION:2.0
PRODID:spatie/icalendar-generator
DESCRIPTION:Events from Village of Beiseker
X-WR-CALDESC:Events from Village of Beiseker
REFRESH-INTERVAL;VALUE=DURATION:PT1440M
X-PUBLISHED-TTL:PT1440M
BEGIN:VTIMEZONE
TZID:America/Edmonton
BEGIN:STANDARD
DTSTART:20251102T020000Z
TZOFFSETFROM:-0600
TZOFFSETTO:-0700
END:STANDARD
BEGIN:DAYLIGHT
DTSTART:20260308T020000Z
TZOFFSETFROM:-0700
TZOFFSETTO:-0600
END:DAYLIGHT
END:VTIMEZONE
BEGIN:VTIMEZONE
TZID:UTC
BEGIN:STANDARD
DTSTART:20250728T160053Z
TZOFFSETFROM:+0000
TZOFFSETTO:+0000
END:STANDARD
END:VTIMEZONE
BEGIN:VEVENT
UID:696-64
DTSTAMP:20260424T160053Z
SUMMARY:Potluck (50+)
LOCATION:Golden Years Town &amp;amp\; Country Club 411 5th Street  Beiseker AB 
 T0M 0G0
ORGANIZER;CN=superadmin:MAILTO:gpeckham@beiseker.com
RRULE:FREQ=MONTHLY;BYDAY=4TH;UNTIL=20270228T000000Z
DTSTART;TZID=America/Edmonton:20260423T180000
DTEND;TZID=America/Edmonton:20260423T190000
X-ALT-DESC;FMTTYPE=TEXT/HTML:Enjoy regular gatherings\, activities\, and so
 cial events designed to bring people together in a friendly and relaxed se
 tting. Come meet new friends and enjoy the company of long-time neighbours
 ! We host a Potluck on the 4th Thursday of each month. Join us at the cl
 ubhouse and bring a favourite dish to share as we enjoy a warm\,&amp;hellip\;
CATEGORIES:Community Events
URL;VALUE=URI:https://beiseker.com/mc-events/potluck-50/?mc_id=696
METHOD:PUBLISH
END:VEVENT
END:VCALENDAR