BEGIN:VCALENDAR
VERSION:2.0
PRODID:spatie/icalendar-generator
DESCRIPTION:Events from Village of Beiseker
X-WR-CALDESC:Events from Village of Beiseker
REFRESH-INTERVAL;VALUE=DURATION:PT1440M
X-PUBLISHED-TTL:PT1440M
BEGIN:VTIMEZONE
TZID:America/Edmonton
BEGIN:STANDARD
DTSTART:20251102T020000Z
TZOFFSETFROM:-0600
TZOFFSETTO:-0700
END:STANDARD
BEGIN:DAYLIGHT
DTSTART:20260308T020000Z
TZOFFSETFROM:-0700
TZOFFSETTO:-0600
END:DAYLIGHT
END:VTIMEZONE
BEGIN:VTIMEZONE
TZID:UTC
BEGIN:STANDARD
DTSTART:20250728T152157Z
TZOFFSETFROM:+0000
TZOFFSETTO:+0000
END:STANDARD
END:VTIMEZONE
BEGIN:VEVENT
UID:729-68
DTSTAMP:20260424T152157Z
SUMMARY:Afternoon Cards (50+)
LOCATION:Golden Years Town &amp;amp\; Country Club 411 5th Street  Beiseker AB 
 T0M 0G0
ORGANIZER;CN=superadmin:MAILTO:gpeckham@beiseker.com
RRULE:FREQ=WEEKLY;UNTIL=20270331T000000Z
DTSTART;TZID=America/Edmonton:20260407T133000
DTEND;TZID=America/Edmonton:20260407T143000
X-ALT-DESC;FMTTYPE=TEXT/HTML:Join us at the clubhouse every Tuesday and Thu
 rsday at 1:30 PM for Hand &amp;amp\; Foot Canasta. It’s a fun\, easy-to-lear
 n card game enjoyed by players of all levels.Shuffleboard and the pool tab
 le are always available while the clubhouse is open. For Members Only. Mem
 bership is $20.00/per year\, please contact Betty at 403-546-2662 or 403-9
 47-3318.
CATEGORIES:Community Events
URL;VALUE=URI:https://beiseker.com/mc-events/afternoon-cards-50/?mc_id=729
METHOD:PUBLISH
END:VEVENT
END:VCALENDAR