BEGIN:VCALENDAR
VERSION:2.0
PRODID:spatie/icalendar-generator
DESCRIPTION:Events from Village of Beiseker
X-WR-CALDESC:Events from Village of Beiseker
REFRESH-INTERVAL;VALUE=DURATION:PT1440M
X-PUBLISHED-TTL:PT1440M
BEGIN:VTIMEZONE
TZID:America/Edmonton
BEGIN:STANDARD
DTSTART:20251102T020000Z
TZOFFSETFROM:-0600
TZOFFSETTO:-0700
END:STANDARD
BEGIN:DAYLIGHT
DTSTART:20260308T020000Z
TZOFFSETFROM:-0700
TZOFFSETTO:-0600
END:DAYLIGHT
BEGIN:STANDARD
DTSTART:20261101T020000Z
TZOFFSETFROM:-0600
TZOFFSETTO:-0700
END:STANDARD
END:VTIMEZONE
BEGIN:VTIMEZONE
TZID:UTC
BEGIN:STANDARD
DTSTART:20250728T164432Z
TZOFFSETFROM:+0000
TZOFFSETTO:+0000
END:STANDARD
END:VTIMEZONE
BEGIN:VEVENT
UID:91-6
DTSTAMP:20260424T164432Z
SUMMARY:Lion's Club Meeting
LOCATION:Beiseker Community Hall 410 5 Street  Beiseker AB  T0M 0G0
ORGANIZER;CN=superadmin:MAILTO:gpeckham@beiseker.com
RRULE:FREQ=MONTHLY;BYDAY=3TU;UNTIL=20261231T000000Z
DTSTART;TZID=America/Edmonton:20260519T190000
DTEND;TZID=America/Edmonton:20260519T210000
X-ALT-DESC;FMTTYPE=TEXT/HTML:Local Lion’s Club gathering to plan service 
 projects\, community events\, and volunteer initiatives.
CATEGORIES:Community Events
URL;VALUE=URI:https://beiseker.com/mc-events/lions-club-meeting-2/?mc_id=91
METHOD:PUBLISH
END:VEVENT
END:VCALENDAR