BEGIN:VCALENDAR
VERSION:2.0
PRODID:spatie/icalendar-generator
DESCRIPTION:Events from Village of Beiseker
X-WR-CALDESC:Events from Village of Beiseker
REFRESH-INTERVAL;VALUE=DURATION:PT1440M
X-PUBLISHED-TTL:PT1440M
BEGIN:VTIMEZONE
TZID:America/Edmonton
BEGIN:STANDARD
DTSTART:20251102T020000Z
TZOFFSETFROM:-0600
TZOFFSETTO:-0700
END:STANDARD
BEGIN:DAYLIGHT
DTSTART:20260308T020000Z
TZOFFSETFROM:-0700
TZOFFSETTO:-0600
END:DAYLIGHT
END:VTIMEZONE
BEGIN:VTIMEZONE
TZID:UTC
BEGIN:STANDARD
DTSTART:20250728T151836Z
TZOFFSETFROM:+0000
TZOFFSETTO:+0000
END:STANDARD
END:VTIMEZONE
BEGIN:VEVENT
UID:948-67
DTSTAMP:20260424T151836Z
SUMMARY:Game Night (50+)
LOCATION:Golden Years Town &amp;amp\; Country Club 411 5th Street  Beiseker AB 
 T0M 0G0
ORGANIZER;CN=superadmin:MAILTO:gpeckham@beiseker.com
RRULE:FREQ=MONTHLY;BYDAY=2FR;UNTIL=20270131T000000Z
DTSTART;TZID=America/Edmonton:20260410T190000
DTEND;TZID=America/Edmonton:20260410T200000
X-ALT-DESC;FMTTYPE=TEXT/HTML:Join us every 2nd Friday of the month at 7:00 
 PM for Game Night at the clubhouse! Enjoy board games\, great company\, an
 d friendly competition. Cost is $3.00 per attendance. Shuffleboard and the
  pool table are always available while the clubhouse is open. For Members 
 Only. Membership is $20.00/per year\, please contact Betty at 403-546-2662
 &amp;hellip\;
CATEGORIES:Community Events
URL;VALUE=URI:https://beiseker.com/mc-events/game-night-50/?mc_id=948
METHOD:PUBLISH
END:VEVENT
END:VCALENDAR