BEGIN:VCALENDAR
VERSION:2.0
PRODID:spatie/icalendar-generator
DESCRIPTION:Events from Village of Beiseker
X-WR-CALDESC:Events from Village of Beiseker
REFRESH-INTERVAL;VALUE=DURATION:PT1440M
X-PUBLISHED-TTL:PT1440M
BEGIN:VTIMEZONE
TZID:America/Edmonton
BEGIN:STANDARD
DTSTART:20251102T020000Z
TZOFFSETFROM:-0600
TZOFFSETTO:-0700
END:STANDARD
BEGIN:DAYLIGHT
DTSTART:20260308T020000Z
TZOFFSETFROM:-0700
TZOFFSETTO:-0600
END:DAYLIGHT
END:VTIMEZONE
BEGIN:VTIMEZONE
TZID:UTC
BEGIN:STANDARD
DTSTART:20250728T151702Z
TZOFFSETFROM:+0000
TZOFFSETTO:+0000
END:STANDARD
END:VTIMEZONE
BEGIN:VEVENT
UID:1372-94
DTSTAMP:20260424T151702Z
SUMMARY:April Fool's Day
LOCATION:
ORGANIZER;CN=superadmin:MAILTO:gpeckham@beiseker.com
DTSTART;TZID=America/Edmonton;VALUE=DATE:20260401
DTEND;TZID=America/Edmonton;VALUE=DATE:20260402
X-ALT-DESC;FMTTYPE=TEXT/HTML:April Fools’ Day (April 1st) is all about pl
 aying pranks\, but its exact origin isn’t 100% confirmed. The most popul
 ar explanation: Back in the 1500s\, when countries like France switched fr
 om the old calendar (where New Year was around late March/April) to the ne
 w one starting January 1… ➤ Some people either didn’t know or&amp;hellip
 \;
CATEGORIES:Holidays &amp; Observances
URL;VALUE=URI:https://beiseker.com/mc-events/april-fools-day-2/
METHOD:PUBLISH
END:VEVENT
END:VCALENDAR