BEGIN:VCALENDAR
VERSION:2.0
PRODID:spatie/icalendar-generator
DESCRIPTION:Events from Village of Beiseker
X-WR-CALDESC:Events from Village of Beiseker
REFRESH-INTERVAL;VALUE=DURATION:PT1440M
X-PUBLISHED-TTL:PT1440M
BEGIN:VTIMEZONE
TZID:America/Edmonton
BEGIN:STANDARD
DTSTART:20251102T020000Z
TZOFFSETFROM:-0600
TZOFFSETTO:-0700
END:STANDARD
BEGIN:DAYLIGHT
DTSTART:20260308T020000Z
TZOFFSETFROM:-0700
TZOFFSETTO:-0600
END:DAYLIGHT
END:VTIMEZONE
BEGIN:VTIMEZONE
TZID:UTC
BEGIN:STANDARD
DTSTART:20250728T151714Z
TZOFFSETFROM:+0000
TZOFFSETTO:+0000
END:STANDARD
END:VTIMEZONE
BEGIN:VEVENT
UID:1374-96
DTSTAMP:20260424T151714Z
SUMMARY:Parks &amp;amp\; Trail AGM
LOCATION:Beiseker Community Hall 410 5 Street  Beiseker AB  T0M 0G0
ORGANIZER;CN=superadmin:MAILTO:gpeckham@beiseker.com
DTSTART;TZID=America/Edmonton:20260414T190000
DTEND;TZID=America/Edmonton:20260414T210000
X-ALT-DESC;FMTTYPE=TEXT/HTML:Everyone is welcome to attend! We have lots of
  exciting projects planned for 2026 and are looking for volunteers to get 
 involved and help make them happen. Come out\, learn what's happening with
  Parks &amp;amp\; Trails and the Dog Park\, and see how you can be part of it.
  We hope to see you there.
CATEGORIES:Community Events
URL;VALUE=URI:https://beiseker.com/mc-events/parks-trail-agm/
METHOD:PUBLISH
END:VEVENT
END:VCALENDAR