BEGIN:VCALENDAR
VERSION:2.0
PRODID:spatie/icalendar-generator
DESCRIPTION:Events from Village of Beiseker
X-WR-CALDESC:Events from Village of Beiseker
REFRESH-INTERVAL;VALUE=DURATION:PT1440M
X-PUBLISHED-TTL:PT1440M
BEGIN:VTIMEZONE
TZID:America/Edmonton
BEGIN:STANDARD
DTSTART:20251102T020000Z
TZOFFSETFROM:-0600
TZOFFSETTO:-0700
END:STANDARD
BEGIN:DAYLIGHT
DTSTART:20260308T020000Z
TZOFFSETFROM:-0700
TZOFFSETTO:-0600
END:DAYLIGHT
BEGIN:STANDARD
DTSTART:20261101T020000Z
TZOFFSETFROM:-0600
TZOFFSETTO:-0700
END:STANDARD
END:VTIMEZONE
BEGIN:VTIMEZONE
TZID:UTC
BEGIN:STANDARD
DTSTART:20250728T155921Z
TZOFFSETFROM:+0000
TZOFFSETTO:+0000
END:STANDARD
END:VTIMEZONE
BEGIN:VEVENT
UID:1377-99
DTSTAMP:20260424T155921Z
SUMMARY:GARAGE SALE!
LOCATION:Doug Hagel Arena 410 5 Street  Beiseker Alberta  T0M 0G0
ORGANIZER;CN=superadmin:MAILTO:gpeckham@beiseker.com
DTSTART;TZID=America/Edmonton:20260502T090000
DTEND;TZID=America/Edmonton:20260502T150000
X-ALT-DESC;FMTTYPE=TEXT/HTML:St. Mary's Church Beiseker [Knights of Columbu
 s #3398] When: May 2nd 9:00 AM to 3:00 PM &amp;amp\; May 3rd 9:00 AM to 2:00 P
 M Where: Doug Hagel Arena\, Beiseker &amp;nbsp\; *Anyone wishing to donate ite
 ms for the sale may deliver them to the arena on Friday\, May 1st between 
 6:00 PM - 7:30 PM* NO&amp;hellip\;
CATEGORIES:Community Events
URL;VALUE=URI:https://beiseker.com/mc-events/garage-sale/
METHOD:PUBLISH
END:VEVENT
END:VCALENDAR