BEGIN:VCALENDAR
VERSION:2.0
PRODID:spatie/icalendar-generator
DESCRIPTION:Events from Village of Beiseker
X-WR-CALDESC:Events from Village of Beiseker
REFRESH-INTERVAL;VALUE=DURATION:PT1440M
X-PUBLISHED-TTL:PT1440M
BEGIN:VTIMEZONE
TZID:America/Edmonton
BEGIN:STANDARD
DTSTART:20251102T020000Z
TZOFFSETFROM:-0600
TZOFFSETTO:-0700
END:STANDARD
BEGIN:DAYLIGHT
DTSTART:20260308T020000Z
TZOFFSETFROM:-0700
TZOFFSETTO:-0600
END:DAYLIGHT
END:VTIMEZONE
BEGIN:VTIMEZONE
TZID:UTC
BEGIN:STANDARD
DTSTART:20250728T154234Z
TZOFFSETFROM:+0000
TZOFFSETTO:+0000
END:STANDARD
END:VTIMEZONE
BEGIN:VEVENT
UID:1737-111
DTSTAMP:20260424T154234Z
SUMMARY:Community Volunteer Income Tax Program
LOCATION:Community Links Beiseker Office  1 - 401 5th Street  Beiseker AB T
 0M 0G0
ORGANIZER;CN=superadmin:MAILTO:gpeckham@beiseker.com
DTSTART;TZID=America/Edmonton:20260422T100000
DTEND;TZID=America/Edmonton:20260422T120000
X-ALT-DESC;FMTTYPE=TEXT/HTML:Do you need help completing your income tax? C
 ommunity Links is offering the Community Volunteer Income Tax Program (CVI
 TP) in partnership with the Canada Revenue Agency. Grab your tax documents
  and come to the FREE\, first come\, first served program. April 22\, 2026
  10:00 am to 12:00 pm
CATEGORIES:Community Events
URL;VALUE=URI:https://beiseker.com/mc-events/community-volunteer-income-tax
 -program/
METHOD:PUBLISH
END:VEVENT
END:VCALENDAR