BEGIN:VCALENDAR
VERSION:2.0
PRODID:spatie/icalendar-generator
DESCRIPTION:Events from Village of Beiseker
X-WR-CALDESC:Events from Village of Beiseker
REFRESH-INTERVAL;VALUE=DURATION:PT1440M
X-PUBLISHED-TTL:PT1440M
BEGIN:VTIMEZONE
TZID:America/Edmonton
BEGIN:STANDARD
DTSTART:20251102T020000Z
TZOFFSETFROM:-0600
TZOFFSETTO:-0700
END:STANDARD
BEGIN:DAYLIGHT
DTSTART:20260308T020000Z
TZOFFSETFROM:-0700
TZOFFSETTO:-0600
END:DAYLIGHT
END:VTIMEZONE
BEGIN:VTIMEZONE
TZID:UTC
BEGIN:STANDARD
DTSTART:20250728T155953Z
TZOFFSETFROM:+0000
TZOFFSETTO:+0000
END:STANDARD
END:VTIMEZONE
BEGIN:VEVENT
UID:1738-105
DTSTAMP:20260424T155953Z
SUMMARY:Good Friday - Transfer Station will be CLOSED
LOCATION:Beiseker Transfer Station 1200 1 Avenue  Beiseker Alberta T0M 0G0
ORGANIZER;CN=superadmin:MAILTO:gpeckham@beiseker.com
DTSTART;TZID=America/Edmonton;VALUE=DATE:20260403
DTEND;TZID=America/Edmonton;VALUE=DATE:20260404
X-ALT-DESC;FMTTYPE=TEXT/HTML:
CATEGORIES:Holidays &amp; Observances
URL;VALUE=URI:https://beiseker.com/mc-events/good-friday-transfer-station-w
 ill-be-closed/
METHOD:PUBLISH
END:VEVENT
END:VCALENDAR