BEGIN:VCALENDAR
VERSION:2.0
PRODID:spatie/icalendar-generator
DESCRIPTION:Events from Village of Beiseker
X-WR-CALDESC:Events from Village of Beiseker
REFRESH-INTERVAL;VALUE=DURATION:PT1440M
X-PUBLISHED-TTL:PT1440M
BEGIN:VTIMEZONE
TZID:America/Edmonton
BEGIN:STANDARD
DTSTART:20251102T020000Z
TZOFFSETFROM:-0600
TZOFFSETTO:-0700
END:STANDARD
BEGIN:DAYLIGHT
DTSTART:20260308T020000Z
TZOFFSETFROM:-0700
TZOFFSETTO:-0600
END:DAYLIGHT
END:VTIMEZONE
BEGIN:VTIMEZONE
TZID:UTC
BEGIN:STANDARD
DTSTART:20250728T154338Z
TZOFFSETFROM:+0000
TZOFFSETTO:+0000
END:STANDARD
END:VTIMEZONE
BEGIN:VEVENT
UID:1740-93
DTSTAMP:20260424T154338Z
SUMMARY:Easter Monday - Village Office will be CLOSED
LOCATION:
ORGANIZER;CN=superadmin:MAILTO:gpeckham@beiseker.com
DTSTART;TZID=America/Edmonton;VALUE=DATE:20260406
DTEND;TZID=America/Edmonton;VALUE=DATE:20260407
X-ALT-DESC;FMTTYPE=TEXT/HTML:Easter Monday follows Easter Sunday and is rec
 ognized as a continuation of the long weekend. It is often a time for rest
 \, outdoor activities\, and spending time with family and community. Pleas
 e note: Our office will be closed on this day. Regular hours will resume o
 n April 7\, 2026.
CATEGORIES:Holidays &amp; Observances
URL;VALUE=URI:https://beiseker.com/mc-events/easter-monday-village-office-w
 ill-be-closed/
METHOD:PUBLISH
END:VEVENT
END:VCALENDAR